BEGIN:VCALENDAR
VERSION:2.0
PRODID:thefun.singles
METHOD:PUBLISH
BEGIN:VEVENT
DTSTART:20260528T020000Z
DTEND:20260528T040000Z
LOCATION:Nalu Vida Venice Beach, 1 Washington Blvd, Marina Del Rey, CA
URL:https://thefun.singles/events/los-angeles-singles-event-la-millennials-gen-z-speed-dating-oh?utm_source=email&utm_medium=los-angeles&utm_campaign=calendar
TRANSP: OPAQUE
STATUS:CONFIRMED
SEQUENCE:0
UID:20260528T020000Z
SUMMARY:Millennials & Gen Z Speed Dating
DESCRIPTION:See the event description here: https://thefun.singles/events/los-angeles-singles-event-la-millennials-gen-z-speed-dating-oh?utm_source=email&utm_medium=los-angeles&utm_campaign=calendar
PRIORITY:1
CLASS:PUBLIC
BEGIN:VALARM
TRIGGER:-PT10080M
ACTION:DISPLAY
DESCRIPTION:Reminder
END:VALARM
END:VEVENT
END:VCALENDAR
